


BEGIN:VCALENDAR
VERSION:2.0
PRODID:-//Falköping Folkets Park - ECPv6.15.20//NONSGML v1.0//EN
CALSCALE:GREGORIAN
METHOD:PUBLISH
X-WR-CALNAME:Falköping Folkets Park
X-ORIGINAL-URL:https://folketsparkfalkoping.se
X-WR-CALDESC:Händelser för Falköping Folkets Park
REFRESH-INTERVAL;VALUE=DURATION:PT1H
X-Robots-Tag:noindex
X-PUBLISHED-TTL:PT1H
BEGIN:VTIMEZONE
TZID:Europe/Stockholm
BEGIN:DAYLIGHT
TZOFFSETFROM:+0100
TZOFFSETTO:+0200
TZNAME:CEST
DTSTART:20250330T010000
END:DAYLIGHT
BEGIN:STANDARD
TZOFFSETFROM:+0200
TZOFFSETTO:+0100
TZNAME:CET
DTSTART:20251026T010000
END:STANDARD
BEGIN:DAYLIGHT
TZOFFSETFROM:+0100
TZOFFSETTO:+0200
TZNAME:CEST
DTSTART:20260329T010000
END:DAYLIGHT
BEGIN:STANDARD
TZOFFSETFROM:+0200
TZOFFSETTO:+0100
TZNAME:CET
DTSTART:20261025T010000
END:STANDARD
BEGIN:DAYLIGHT
TZOFFSETFROM:+0100
TZOFFSETTO:+0200
TZNAME:CEST
DTSTART:20270328T010000
END:DAYLIGHT
BEGIN:STANDARD
TZOFFSETFROM:+0200
TZOFFSETTO:+0100
TZNAME:CET
DTSTART:20271031T010000
END:STANDARD
END:VTIMEZONE
BEGIN:VEVENT
DTSTART;TZID=Europe/Stockholm:20261209T180000
DTEND;TZID=Europe/Stockholm:20261209T213000
DTSTAMP:20260420T015932
CREATED:20251208T140153Z
LAST-MODIFIED:20260323T223200Z
UID:3225-1796839200-1796851800@folketsparkfalkoping.se
SUMMARY:Rignells
DESCRIPTION:Du betalar entrén och i kaféet med kort\, Swish eller kontanter.\nUngdom under 15 år har fri entré i sällskap med betalade vuxen.\nVälkommen!
URL:https://folketsparkfalkoping.se/event/rignells-2/
LOCATION:Falköping Folkets Park\, Trinnöjegatan 24\, Falköping
CATEGORIES:Dans,Folkpark
ATTACH;FMTTYPE=image/jpeg:https://folketsparkfalkoping.se/wp-content/uploads/2025/12/dansband_rignells26.jpg
END:VEVENT
BEGIN:VEVENT
DTSTART;TZID=Europe/Stockholm:20261212T190000
DTEND;TZID=Europe/Stockholm:20261212T230000
DTSTAMP:20260420T015932
CREATED:20251208T101029Z
LAST-MODIFIED:20251208T102347Z
UID:3212-1797102000-1797116400@folketsparkfalkoping.se
SUMMARY:Donnez
DESCRIPTION:Du betalar entrén och i kaféet med kort\, Swish eller kontanter.\nUngdom under 15 år har fri entré i sällskap med betalade vuxen.\nVälkommen!
URL:https://folketsparkfalkoping.se/event/donnez-2/
LOCATION:Falköping Folkets Park\, Trinnöjegatan 24\, Falköping
CATEGORIES:Dans,Folkpark
ATTACH;FMTTYPE=image/jpeg:https://folketsparkfalkoping.se/wp-content/uploads/2025/10/dansband_donnez3.jpg
END:VEVENT
BEGIN:VEVENT
DTSTART;TZID=Europe/Stockholm:20261226T180000
DTEND;TZID=Europe/Stockholm:20261226T213000
DTSTAMP:20260420T015932
CREATED:20251208T101118Z
LAST-MODIFIED:20260323T222102Z
UID:3215-1798308000-1798320600@folketsparkfalkoping.se
SUMMARY:Bob Stevens
DESCRIPTION:Du betalar entrén och i kaféet med kort\, Swish eller kontanter.\nUngdom under 15 år har fri entré i sällskap med betalade vuxen.\nVälkommen!
URL:https://folketsparkfalkoping.se/event/bob-stevens-5/
LOCATION:Falköping Folkets Park\, Trinnöjegatan 24\, Falköping
CATEGORIES:Dans,Folkpark
ATTACH;FMTTYPE=image/jpeg:https://folketsparkfalkoping.se/wp-content/uploads/2025/12/dansband_bobstevens26.jpg
END:VEVENT
END:VCALENDAR