


BEGIN:VCALENDAR
VERSION:2.0
PRODID:-//Falköping Folkets Park - ECPv6.15.20//NONSGML v1.0//EN
CALSCALE:GREGORIAN
METHOD:PUBLISH
X-ORIGINAL-URL:https://folketsparkfalkoping.se
X-WR-CALDESC:Händelser för Falköping Folkets Park
REFRESH-INTERVAL;VALUE=DURATION:PT1H
X-Robots-Tag:noindex
X-PUBLISHED-TTL:PT1H
BEGIN:VTIMEZONE
TZID:Europe/Stockholm
BEGIN:DAYLIGHT
TZOFFSETFROM:+0100
TZOFFSETTO:+0200
TZNAME:CEST
DTSTART:20250330T010000
END:DAYLIGHT
BEGIN:STANDARD
TZOFFSETFROM:+0200
TZOFFSETTO:+0100
TZNAME:CET
DTSTART:20251026T010000
END:STANDARD
BEGIN:DAYLIGHT
TZOFFSETFROM:+0100
TZOFFSETTO:+0200
TZNAME:CEST
DTSTART:20260329T010000
END:DAYLIGHT
BEGIN:STANDARD
TZOFFSETFROM:+0200
TZOFFSETTO:+0100
TZNAME:CET
DTSTART:20261025T010000
END:STANDARD
BEGIN:DAYLIGHT
TZOFFSETFROM:+0100
TZOFFSETTO:+0200
TZNAME:CEST
DTSTART:20270328T010000
END:DAYLIGHT
BEGIN:STANDARD
TZOFFSETFROM:+0200
TZOFFSETTO:+0100
TZNAME:CET
DTSTART:20271031T010000
END:STANDARD
END:VTIMEZONE
BEGIN:VEVENT
DTSTART;TZID=Europe/Stockholm:20260803T180000
DTEND;TZID=Europe/Stockholm:20260803T213000
DTSTAMP:20260419T144856
CREATED:20251024T213037Z
LAST-MODIFIED:20260402T165509Z
UID:3112-1785780000-1785792600@folketsparkfalkoping.se
SUMMARY:Voize
DESCRIPTION:Du betalar entrén och i kaféet med kort\, Swish eller kontanter.\nUngdom under 15 år har fri entré i sällskap med betalade vuxen.\nVälkommen!
URL:https://folketsparkfalkoping.se/event/voize/
LOCATION:Falköping Folkets Park\, Trinnöjegatan 24\, Falköping
CATEGORIES:Dans,Folkpark
ATTACH;FMTTYPE=image/jpeg:https://folketsparkfalkoping.se/wp-content/uploads/2025/10/FB_IMG_1775148718255.jpg
END:VEVENT
BEGIN:VEVENT
DTSTART;TZID=Europe/Stockholm:20260817T180000
DTEND;TZID=Europe/Stockholm:20260817T213000
DTSTAMP:20260419T144856
CREATED:20250316T115600Z
LAST-MODIFIED:20251024T212545Z
UID:2211-1786989600-1787002200@folketsparkfalkoping.se
SUMMARY:Holidays
DESCRIPTION:Du betalar entrén och i kaféet med kort\, Swish eller kontanter.\nUngdom under 15 år har fri entré i sällskap med betalade vuxen.\nVälkommen!
URL:https://folketsparkfalkoping.se/event/hollidays-2/
LOCATION:Falköping Folkets Park\, Trinnöjegatan 24\, Falköping
CATEGORIES:Dans,Folkpark
ATTACH;FMTTYPE=image/jpeg:https://folketsparkfalkoping.se/wp-content/uploads/2025/08/dansband_holidays.jpg
END:VEVENT
BEGIN:VEVENT
DTSTART;TZID=Europe/Stockholm:20260831T180000
DTEND;TZID=Europe/Stockholm:20260831T213000
DTSTAMP:20260419T144856
CREATED:20251024T213135Z
LAST-MODIFIED:20260323T223232Z
UID:3115-1788199200-1788211800@folketsparkfalkoping.se
SUMMARY:Rignells
DESCRIPTION:Du betalar entrén och i kaféet med kort\, Swish eller kontanter.\nUngdom under 15 år har fri entré i sällskap med betalade vuxen.\nVälkommen!
URL:https://folketsparkfalkoping.se/event/rignells/
LOCATION:Falköping Folkets Park\, Trinnöjegatan 24\, Falköping
CATEGORIES:Dans,Folkpark
ATTACH;FMTTYPE=image/jpeg:https://folketsparkfalkoping.se/wp-content/uploads/2025/12/dansband_rignells26.jpg
END:VEVENT
END:VCALENDAR